BEGIN:VCALENDAR
VERSION:2.0
CALSCALE:GREGORIAN
PRODID:adamgibbons/ics
METHOD:PUBLISH
X-PUBLISHED-TTL:PT1H
BEGIN:VEVENT
UID:529@fahrradtermine-berlin.de
SUMMARY:Kiddical Mass Adlershof
DTSTAMP:20260424T014032Z
DTSTART:20260510T130000Z
DTEND:20260510T143000Z
URL:https://fahrradtermine-berlin.de/event/kiddical-mass-treptow-kopenick
LOCATION:S Adlershof - Adlergestell 134\, 12489 Berlin
STATUS:CONFIRMED
CATEGORIES:ADFC,Changing Cities,Fahrraddemo,Kiddical Mass,Kids,Treptow-Köpe
	nick
END:VEVENT
END:VCALENDAR
